BEGIN:VCALENDAR
VERSION:2.0
PRODID:-//Overlooked Materials - ECPv6.6.4.2//NONSGML v1.0//EN
CALSCALE:GREGORIAN
METHOD:PUBLISH
X-WR-CALNAME:Overlooked Materials
X-ORIGINAL-URL:https://overlookedmaterials.com
X-WR-CALDESC:Events for Overlooked Materials
REFRESH-INTERVAL;VALUE=DURATION:PT1H
X-Robots-Tag:noindex
X-PUBLISHED-TTL:PT1H
BEGIN:VTIMEZONE
TZID:UTC
BEGIN:STANDARD
TZOFFSETFROM:+0000
TZOFFSETTO:+0000
TZNAME:UTC
DTSTART:20260101T000000
END:STANDARD
TZID:America/Halifax
BEGIN:DAYLIGHT
TZOFFSETFROM:-0400
TZOFFSETTO:-0300
TZNAME:ADT
DTSTART:20260308T060000
END:DAYLIGHT
BEGIN:STANDARD
TZOFFSETFROM:-0300
TZOFFSETTO:-0400
TZNAME:AST
DTSTART:20261101T050000
END:STANDARD
END:VTIMEZONE
BEGIN:VEVENT
DTSTART;VALUE=DATE:20260421
DTEND;VALUE=DATE:20260422
DTSTAMP:20260420T143237
CREATED:20240731T201330Z
LAST-MODIFIED:20240731T201526Z
UID:10000659-1776729600-1776815999@overlookedmaterials.com
SUMMARY:Downtown\, Lookout Mtn & Valley\, St. Elmo Collection
DESCRIPTION:
URL:https://overlookedmaterials.com/event/downtown-lookout-mtn-valley-st-elmo-collection/2026-04-21/
CATEGORIES:Commercial & Multi-Family,Residential
END:VEVENT
BEGIN:VEVENT
DTSTART;VALUE=DATE:20260428
DTEND;VALUE=DATE:20260429
DTSTAMP:20260420T143237
CREATED:20240731T201441Z
LAST-MODIFIED:20240731T201441Z
UID:10000600-1777334400-1777420799@overlookedmaterials.com
SUMMARY:North Chatt\, Redbank\, Hixson Collection
DESCRIPTION:
URL:https://overlookedmaterials.com/event/north-chatt-redbank-hixson-collection/2026-04-28/
CATEGORIES:Commercial & Multi-Family,Residential
END:VEVENT
BEGIN:VEVENT
DTSTART;TZID=America/Halifax:20260429T080000
DTEND;TZID=America/Halifax:20260429T170000
DTSTAMP:20260420T143237
CREATED:20240808T165425Z
LAST-MODIFIED:20240808T165426Z
UID:10000742-1777449600-1777482000@overlookedmaterials.com
SUMMARY:Bi-Weekly Collection
DESCRIPTION:
URL:https://overlookedmaterials.com/event/bi-weekly-commercial-collection-2/2026-04-29/
CATEGORIES:Commercial & Multi-Family
END:VEVENT
BEGIN:VEVENT
DTSTART;VALUE=DATE:20260512
DTEND;VALUE=DATE:20260513
DTSTAMP:20260420T143237
CREATED:20240731T201138Z
LAST-MODIFIED:20240731T201138Z
UID:10000539-1778544000-1778630399@overlookedmaterials.com
SUMMARY:East Ridge\, Brainerd\, Hwy 58 Collection
DESCRIPTION:
URL:https://overlookedmaterials.com/event/east-ridge-brainerd-hwy-58-collection/2026-05-12/
CATEGORIES:Commercial & Multi-Family,Residential
END:VEVENT
BEGIN:VEVENT
DTSTART;TZID=America/Halifax:20260513T080000
DTEND;TZID=America/Halifax:20260513T170000
DTSTAMP:20260420T143237
CREATED:20240808T165425Z
LAST-MODIFIED:20240808T165426Z
UID:10000743-1778659200-1778691600@overlookedmaterials.com
SUMMARY:Bi-Weekly Collection
DESCRIPTION:
URL:https://overlookedmaterials.com/event/bi-weekly-commercial-collection-2/2026-05-13/
CATEGORIES:Commercial & Multi-Family
END:VEVENT
BEGIN:VEVENT
DTSTART;VALUE=DATE:20260519
DTEND;VALUE=DATE:20260520
DTSTAMP:20260420T143237
CREATED:20240731T201330Z
LAST-MODIFIED:20240731T201526Z
UID:10000660-1779148800-1779235199@overlookedmaterials.com
SUMMARY:Downtown\, Lookout Mtn & Valley\, St. Elmo Collection
DESCRIPTION:
URL:https://overlookedmaterials.com/event/downtown-lookout-mtn-valley-st-elmo-collection/2026-05-19/
CATEGORIES:Commercial & Multi-Family,Residential
END:VEVENT
BEGIN:VEVENT
DTSTART;VALUE=DATE:20260526
DTEND;VALUE=DATE:20260527
DTSTAMP:20260420T143237
CREATED:20240731T201441Z
LAST-MODIFIED:20240731T201441Z
UID:10000601-1779753600-1779839999@overlookedmaterials.com
SUMMARY:North Chatt\, Redbank\, Hixson Collection
DESCRIPTION:
URL:https://overlookedmaterials.com/event/north-chatt-redbank-hixson-collection/2026-05-26/
CATEGORIES:Commercial & Multi-Family,Residential
END:VEVENT
BEGIN:VEVENT
DTSTART;TZID=America/Halifax:20260527T080000
DTEND;TZID=America/Halifax:20260527T170000
DTSTAMP:20260420T143237
CREATED:20240808T165425Z
LAST-MODIFIED:20240808T165426Z
UID:10000744-1779868800-1779901200@overlookedmaterials.com
SUMMARY:Bi-Weekly Collection
DESCRIPTION:
URL:https://overlookedmaterials.com/event/bi-weekly-commercial-collection-2/2026-05-27/
CATEGORIES:Commercial & Multi-Family
END:VEVENT
BEGIN:VEVENT
DTSTART;VALUE=DATE:20260609
DTEND;VALUE=DATE:20260610
DTSTAMP:20260420T143237
CREATED:20240731T201138Z
LAST-MODIFIED:20240731T201138Z
UID:10000540-1780963200-1781049599@overlookedmaterials.com
SUMMARY:East Ridge\, Brainerd\, Hwy 58 Collection
DESCRIPTION:
URL:https://overlookedmaterials.com/event/east-ridge-brainerd-hwy-58-collection/2026-06-09/
CATEGORIES:Commercial & Multi-Family,Residential
END:VEVENT
BEGIN:VEVENT
DTSTART;TZID=America/Halifax:20260610T080000
DTEND;TZID=America/Halifax:20260610T170000
DTSTAMP:20260420T143237
CREATED:20240808T165425Z
LAST-MODIFIED:20240808T165426Z
UID:10000745-1781078400-1781110800@overlookedmaterials.com
SUMMARY:Bi-Weekly Collection
DESCRIPTION:
URL:https://overlookedmaterials.com/event/bi-weekly-commercial-collection-2/2026-06-10/
CATEGORIES:Commercial & Multi-Family
END:VEVENT
BEGIN:VEVENT
DTSTART;VALUE=DATE:20260616
DTEND;VALUE=DATE:20260617
DTSTAMP:20260420T143237
CREATED:20240731T201330Z
LAST-MODIFIED:20240731T201526Z
UID:10000661-1781568000-1781654399@overlookedmaterials.com
SUMMARY:Downtown\, Lookout Mtn & Valley\, St. Elmo Collection
DESCRIPTION:
URL:https://overlookedmaterials.com/event/downtown-lookout-mtn-valley-st-elmo-collection/2026-06-16/
CATEGORIES:Commercial & Multi-Family,Residential
END:VEVENT
BEGIN:VEVENT
DTSTART;VALUE=DATE:20260623
DTEND;VALUE=DATE:20260624
DTSTAMP:20260420T143237
CREATED:20240731T201441Z
LAST-MODIFIED:20240731T201441Z
UID:10000602-1782172800-1782259199@overlookedmaterials.com
SUMMARY:North Chatt\, Redbank\, Hixson Collection
DESCRIPTION:
URL:https://overlookedmaterials.com/event/north-chatt-redbank-hixson-collection/2026-06-23/
CATEGORIES:Commercial & Multi-Family,Residential
END:VEVENT
BEGIN:VEVENT
DTSTART;TZID=America/Halifax:20260624T080000
DTEND;TZID=America/Halifax:20260624T170000
DTSTAMP:20260420T143237
CREATED:20240808T165425Z
LAST-MODIFIED:20240808T165426Z
UID:10000746-1782288000-1782320400@overlookedmaterials.com
SUMMARY:Bi-Weekly Collection
DESCRIPTION:
URL:https://overlookedmaterials.com/event/bi-weekly-commercial-collection-2/2026-06-24/
CATEGORIES:Commercial & Multi-Family
END:VEVENT
BEGIN:VEVENT
DTSTART;TZID=America/Halifax:20260708T080000
DTEND;TZID=America/Halifax:20260708T170000
DTSTAMP:20260420T143238
CREATED:20240808T165425Z
LAST-MODIFIED:20240808T165426Z
UID:10000747-1783497600-1783530000@overlookedmaterials.com
SUMMARY:Bi-Weekly Collection
DESCRIPTION:
URL:https://overlookedmaterials.com/event/bi-weekly-commercial-collection-2/2026-07-08/
CATEGORIES:Commercial & Multi-Family
END:VEVENT
BEGIN:VEVENT
DTSTART;VALUE=DATE:20260714
DTEND;VALUE=DATE:20260715
DTSTAMP:20260420T143238
CREATED:20240731T201138Z
LAST-MODIFIED:20240731T201138Z
UID:10000541-1783987200-1784073599@overlookedmaterials.com
SUMMARY:East Ridge\, Brainerd\, Hwy 58 Collection
DESCRIPTION:
URL:https://overlookedmaterials.com/event/east-ridge-brainerd-hwy-58-collection/2026-07-14/
CATEGORIES:Commercial & Multi-Family,Residential
END:VEVENT
BEGIN:VEVENT
DTSTART;VALUE=DATE:20260721
DTEND;VALUE=DATE:20260722
DTSTAMP:20260420T143238
CREATED:20240731T201330Z
LAST-MODIFIED:20240731T201526Z
UID:10000662-1784592000-1784678399@overlookedmaterials.com
SUMMARY:Downtown\, Lookout Mtn & Valley\, St. Elmo Collection
DESCRIPTION:
URL:https://overlookedmaterials.com/event/downtown-lookout-mtn-valley-st-elmo-collection/2026-07-21/
CATEGORIES:Commercial & Multi-Family,Residential
END:VEVENT
BEGIN:VEVENT
DTSTART;TZID=America/Halifax:20260722T080000
DTEND;TZID=America/Halifax:20260722T170000
DTSTAMP:20260420T143238
CREATED:20240808T165425Z
LAST-MODIFIED:20240808T165426Z
UID:10000748-1784707200-1784739600@overlookedmaterials.com
SUMMARY:Bi-Weekly Collection
DESCRIPTION:
URL:https://overlookedmaterials.com/event/bi-weekly-commercial-collection-2/2026-07-22/
CATEGORIES:Commercial & Multi-Family
END:VEVENT
BEGIN:VEVENT
DTSTART;VALUE=DATE:20260728
DTEND;VALUE=DATE:20260729
DTSTAMP:20260420T143238
CREATED:20240731T201441Z
LAST-MODIFIED:20240731T201441Z
UID:10000603-1785196800-1785283199@overlookedmaterials.com
SUMMARY:North Chatt\, Redbank\, Hixson Collection
DESCRIPTION:
URL:https://overlookedmaterials.com/event/north-chatt-redbank-hixson-collection/2026-07-28/
CATEGORIES:Commercial & Multi-Family,Residential
END:VEVENT
BEGIN:VEVENT
DTSTART;TZID=America/Halifax:20260805T080000
DTEND;TZID=America/Halifax:20260805T170000
DTSTAMP:20260420T143238
CREATED:20240808T165425Z
LAST-MODIFIED:20240808T165426Z
UID:10000749-1785916800-1785949200@overlookedmaterials.com
SUMMARY:Bi-Weekly Collection
DESCRIPTION:
URL:https://overlookedmaterials.com/event/bi-weekly-commercial-collection-2/2026-08-05/
CATEGORIES:Commercial & Multi-Family
END:VEVENT
BEGIN:VEVENT
DTSTART;VALUE=DATE:20260811
DTEND;VALUE=DATE:20260812
DTSTAMP:20260420T143238
CREATED:20240731T201138Z
LAST-MODIFIED:20240731T201138Z
UID:10000542-1786406400-1786492799@overlookedmaterials.com
SUMMARY:East Ridge\, Brainerd\, Hwy 58 Collection
DESCRIPTION:
URL:https://overlookedmaterials.com/event/east-ridge-brainerd-hwy-58-collection/2026-08-11/
CATEGORIES:Commercial & Multi-Family,Residential
END:VEVENT
BEGIN:VEVENT
DTSTART;VALUE=DATE:20260818
DTEND;VALUE=DATE:20260819
DTSTAMP:20260420T143238
CREATED:20240731T201330Z
LAST-MODIFIED:20240731T201526Z
UID:10000663-1787011200-1787097599@overlookedmaterials.com
SUMMARY:Downtown\, Lookout Mtn & Valley\, St. Elmo Collection
DESCRIPTION:
URL:https://overlookedmaterials.com/event/downtown-lookout-mtn-valley-st-elmo-collection/2026-08-18/
CATEGORIES:Commercial & Multi-Family,Residential
END:VEVENT
BEGIN:VEVENT
DTSTART;TZID=America/Halifax:20260819T080000
DTEND;TZID=America/Halifax:20260819T170000
DTSTAMP:20260420T143238
CREATED:20240808T165425Z
LAST-MODIFIED:20240808T165426Z
UID:10000750-1787126400-1787158800@overlookedmaterials.com
SUMMARY:Bi-Weekly Collection
DESCRIPTION:
URL:https://overlookedmaterials.com/event/bi-weekly-commercial-collection-2/2026-08-19/
CATEGORIES:Commercial & Multi-Family
END:VEVENT
BEGIN:VEVENT
DTSTART;VALUE=DATE:20260825
DTEND;VALUE=DATE:20260826
DTSTAMP:20260420T143238
CREATED:20240731T201441Z
LAST-MODIFIED:20240731T201441Z
UID:10000604-1787616000-1787702399@overlookedmaterials.com
SUMMARY:North Chatt\, Redbank\, Hixson Collection
DESCRIPTION:
URL:https://overlookedmaterials.com/event/north-chatt-redbank-hixson-collection/2026-08-25/
CATEGORIES:Commercial & Multi-Family,Residential
END:VEVENT
BEGIN:VEVENT
DTSTART;TZID=America/Halifax:20260902T080000
DTEND;TZID=America/Halifax:20260902T170000
DTSTAMP:20260420T143238
CREATED:20240808T165425Z
LAST-MODIFIED:20240808T165426Z
UID:10000751-1788336000-1788368400@overlookedmaterials.com
SUMMARY:Bi-Weekly Collection
DESCRIPTION:
URL:https://overlookedmaterials.com/event/bi-weekly-commercial-collection-2/2026-09-02/
CATEGORIES:Commercial & Multi-Family
END:VEVENT
BEGIN:VEVENT
DTSTART;VALUE=DATE:20260908
DTEND;VALUE=DATE:20260909
DTSTAMP:20260420T143238
CREATED:20240731T201138Z
LAST-MODIFIED:20240731T201138Z
UID:10000543-1788825600-1788911999@overlookedmaterials.com
SUMMARY:East Ridge\, Brainerd\, Hwy 58 Collection
DESCRIPTION:
URL:https://overlookedmaterials.com/event/east-ridge-brainerd-hwy-58-collection/2026-09-08/
CATEGORIES:Commercial & Multi-Family,Residential
END:VEVENT
BEGIN:VEVENT
DTSTART;VALUE=DATE:20260915
DTEND;VALUE=DATE:20260916
DTSTAMP:20260420T143238
CREATED:20240731T201330Z
LAST-MODIFIED:20240731T201526Z
UID:10000664-1789430400-1789516799@overlookedmaterials.com
SUMMARY:Downtown\, Lookout Mtn & Valley\, St. Elmo Collection
DESCRIPTION:
URL:https://overlookedmaterials.com/event/downtown-lookout-mtn-valley-st-elmo-collection/2026-09-15/
CATEGORIES:Commercial & Multi-Family,Residential
END:VEVENT
BEGIN:VEVENT
DTSTART;TZID=America/Halifax:20260916T080000
DTEND;TZID=America/Halifax:20260916T170000
DTSTAMP:20260420T143238
CREATED:20240808T165425Z
LAST-MODIFIED:20240808T165426Z
UID:10000752-1789545600-1789578000@overlookedmaterials.com
SUMMARY:Bi-Weekly Collection
DESCRIPTION:
URL:https://overlookedmaterials.com/event/bi-weekly-commercial-collection-2/2026-09-16/
CATEGORIES:Commercial & Multi-Family
END:VEVENT
BEGIN:VEVENT
DTSTART;VALUE=DATE:20260922
DTEND;VALUE=DATE:20260923
DTSTAMP:20260420T143238
CREATED:20240731T201441Z
LAST-MODIFIED:20240731T201441Z
UID:10000605-1790035200-1790121599@overlookedmaterials.com
SUMMARY:North Chatt\, Redbank\, Hixson Collection
DESCRIPTION:
URL:https://overlookedmaterials.com/event/north-chatt-redbank-hixson-collection/2026-09-22/
CATEGORIES:Commercial & Multi-Family,Residential
END:VEVENT
BEGIN:VEVENT
DTSTART;TZID=America/Halifax:20260930T080000
DTEND;TZID=America/Halifax:20260930T170000
DTSTAMP:20260420T143238
CREATED:20240808T165425Z
LAST-MODIFIED:20240808T165426Z
UID:10000753-1790755200-1790787600@overlookedmaterials.com
SUMMARY:Bi-Weekly Collection
DESCRIPTION:
URL:https://overlookedmaterials.com/event/bi-weekly-commercial-collection-2/2026-09-30/
CATEGORIES:Commercial & Multi-Family
END:VEVENT
BEGIN:VEVENT
DTSTART;VALUE=DATE:20261013
DTEND;VALUE=DATE:20261014
DTSTAMP:20260420T143238
CREATED:20240731T201138Z
LAST-MODIFIED:20240731T201138Z
UID:10000544-1791849600-1791935999@overlookedmaterials.com
SUMMARY:East Ridge\, Brainerd\, Hwy 58 Collection
DESCRIPTION:
URL:https://overlookedmaterials.com/event/east-ridge-brainerd-hwy-58-collection/2026-10-13/
CATEGORIES:Commercial & Multi-Family,Residential
END:VEVENT
END:VCALENDAR