BEGIN:VCALENDAR
VERSION:2.0
PRODID:-//Overlooked Materials - ECPv6.6.4.2//NONSGML v1.0//EN
CALSCALE:GREGORIAN
METHOD:PUBLISH
X-WR-CALNAME:Overlooked Materials
X-ORIGINAL-URL:https://overlookedmaterials.com
X-WR-CALDESC:Events for Overlooked Materials
REFRESH-INTERVAL;VALUE=DURATION:PT1H
X-Robots-Tag:noindex
X-PUBLISHED-TTL:PT1H
BEGIN:VTIMEZONE
TZID:America/Halifax
BEGIN:DAYLIGHT
TZOFFSETFROM:-0400
TZOFFSETTO:-0300
TZNAME:ADT
DTSTART:20240310T060000
END:DAYLIGHT
BEGIN:STANDARD
TZOFFSETFROM:-0300
TZOFFSETTO:-0400
TZNAME:AST
DTSTART:20241103T050000
END:STANDARD
TZID:UTC
BEGIN:STANDARD
TZOFFSETFROM:+0000
TZOFFSETTO:+0000
TZNAME:UTC
DTSTART:20240101T000000
END:STANDARD
END:VTIMEZONE
BEGIN:VEVENT
DTSTART;TZID=America/Halifax:20241225T080000
DTEND;TZID=America/Halifax:20241225T170000
DTSTAMP:20260419T134505
CREATED:20240808T165425Z
LAST-MODIFIED:20240808T165426Z
UID:10000707-1735113600-1735146000@overlookedmaterials.com
SUMMARY:Bi-Weekly Collection
DESCRIPTION:
URL:https://overlookedmaterials.com/event/bi-weekly-commercial-collection-2/2024-12-25/
CATEGORIES:Commercial & Multi-Family
END:VEVENT
BEGIN:VEVENT
DTSTART;VALUE=DATE:20241224
DTEND;VALUE=DATE:20241225
DTSTAMP:20260419T134505
CREATED:20240731T201441Z
LAST-MODIFIED:20240731T201441Z
UID:10000584-1734998400-1735084799@overlookedmaterials.com
SUMMARY:North Chatt\, Redbank\, Hixson Collection
DESCRIPTION:
URL:https://overlookedmaterials.com/event/north-chatt-redbank-hixson-collection/2024-12-24/
CATEGORIES:Commercial & Multi-Family,Residential
END:VEVENT
BEGIN:VEVENT
DTSTART;VALUE=DATE:20241217
DTEND;VALUE=DATE:20241218
DTSTAMP:20260419T134505
CREATED:20240731T201330Z
LAST-MODIFIED:20240731T201526Z
UID:10000643-1734393600-1734479999@overlookedmaterials.com
SUMMARY:Downtown\, Lookout Mtn & Valley\, St. Elmo Collection
DESCRIPTION:
URL:https://overlookedmaterials.com/event/downtown-lookout-mtn-valley-st-elmo-collection/2024-12-17/
CATEGORIES:Commercial & Multi-Family,Residential
END:VEVENT
BEGIN:VEVENT
DTSTART;TZID=America/Halifax:20241211T080000
DTEND;TZID=America/Halifax:20241211T170000
DTSTAMP:20260419T134505
CREATED:20240808T165425Z
LAST-MODIFIED:20240808T165426Z
UID:10000706-1733904000-1733936400@overlookedmaterials.com
SUMMARY:Bi-Weekly Collection
DESCRIPTION:
URL:https://overlookedmaterials.com/event/bi-weekly-commercial-collection-2/2024-12-11/
CATEGORIES:Commercial & Multi-Family
END:VEVENT
BEGIN:VEVENT
DTSTART;VALUE=DATE:20241210
DTEND;VALUE=DATE:20241211
DTSTAMP:20260419T134505
CREATED:20240731T201138Z
LAST-MODIFIED:20240731T201138Z
UID:10000522-1733788800-1733875199@overlookedmaterials.com
SUMMARY:East Ridge\, Brainerd\, Hwy 58 Collection
DESCRIPTION:
URL:https://overlookedmaterials.com/event/east-ridge-brainerd-hwy-58-collection/2024-12-10/
CATEGORIES:Commercial & Multi-Family,Residential
END:VEVENT
BEGIN:VEVENT
DTSTART;VALUE=DATE:20241203
DTEND;VALUE=DATE:20241204
DTSTAMP:20260419T134505
CREATED:20240731T174232Z
LAST-MODIFIED:20240731T201707Z
UID:10000462-1733184000-1733270399@overlookedmaterials.com
SUMMARY:Signal Mountain Monthly Collection
DESCRIPTION:
URL:https://overlookedmaterials.com/event/residential-glass-pickup-2-2/2024-12-03/
CATEGORIES:Residential
END:VEVENT
BEGIN:VEVENT
DTSTART;TZID=America/Halifax:20241127T080000
DTEND;TZID=America/Halifax:20241127T170000
DTSTAMP:20260419T134505
CREATED:20240808T165425Z
LAST-MODIFIED:20240808T165426Z
UID:10000705-1732694400-1732726800@overlookedmaterials.com
SUMMARY:Bi-Weekly Collection
DESCRIPTION:
URL:https://overlookedmaterials.com/event/bi-weekly-commercial-collection-2/2024-11-27/
CATEGORIES:Commercial & Multi-Family
END:VEVENT
BEGIN:VEVENT
DTSTART;VALUE=DATE:20241126
DTEND;VALUE=DATE:20241127
DTSTAMP:20260419T134505
CREATED:20240731T201441Z
LAST-MODIFIED:20240731T201441Z
UID:10000583-1732579200-1732665599@overlookedmaterials.com
SUMMARY:North Chatt\, Redbank\, Hixson Collection
DESCRIPTION:
URL:https://overlookedmaterials.com/event/north-chatt-redbank-hixson-collection/2024-11-26/
CATEGORIES:Commercial & Multi-Family,Residential
END:VEVENT
BEGIN:VEVENT
DTSTART;VALUE=DATE:20241119
DTEND;VALUE=DATE:20241120
DTSTAMP:20260419T134505
CREATED:20240731T201330Z
LAST-MODIFIED:20240731T201526Z
UID:10000642-1731974400-1732060799@overlookedmaterials.com
SUMMARY:Downtown\, Lookout Mtn & Valley\, St. Elmo Collection
DESCRIPTION:
URL:https://overlookedmaterials.com/event/downtown-lookout-mtn-valley-st-elmo-collection/2024-11-19/
CATEGORIES:Commercial & Multi-Family,Residential
END:VEVENT
BEGIN:VEVENT
DTSTART;TZID=America/Halifax:20241113T080000
DTEND;TZID=America/Halifax:20241113T170000
DTSTAMP:20260419T134505
CREATED:20240808T165425Z
LAST-MODIFIED:20240808T165426Z
UID:10000704-1731484800-1731517200@overlookedmaterials.com
SUMMARY:Bi-Weekly Collection
DESCRIPTION:
URL:https://overlookedmaterials.com/event/bi-weekly-commercial-collection-2/2024-11-13/
CATEGORIES:Commercial & Multi-Family
END:VEVENT
BEGIN:VEVENT
DTSTART;VALUE=DATE:20241112
DTEND;VALUE=DATE:20241113
DTSTAMP:20260419T134505
CREATED:20240731T201138Z
LAST-MODIFIED:20240731T201138Z
UID:10000521-1731369600-1731455999@overlookedmaterials.com
SUMMARY:East Ridge\, Brainerd\, Hwy 58 Collection
DESCRIPTION:
URL:https://overlookedmaterials.com/event/east-ridge-brainerd-hwy-58-collection/2024-11-12/
CATEGORIES:Commercial & Multi-Family,Residential
END:VEVENT
BEGIN:VEVENT
DTSTART;VALUE=DATE:20241105
DTEND;VALUE=DATE:20241106
DTSTAMP:20260419T134505
CREATED:20240731T174232Z
LAST-MODIFIED:20240731T201707Z
UID:10000461-1730764800-1730851199@overlookedmaterials.com
SUMMARY:Signal Mountain Monthly Collection
DESCRIPTION:
URL:https://overlookedmaterials.com/event/residential-glass-pickup-2-2/2024-11-05/
CATEGORIES:Residential
END:VEVENT
BEGIN:VEVENT
DTSTART;TZID=America/Halifax:20241030T080000
DTEND;TZID=America/Halifax:20241030T170000
DTSTAMP:20260419T134505
CREATED:20240808T165425Z
LAST-MODIFIED:20240808T165426Z
UID:10000703-1730275200-1730307600@overlookedmaterials.com
SUMMARY:Bi-Weekly Collection
DESCRIPTION:
URL:https://overlookedmaterials.com/event/bi-weekly-commercial-collection-2/2024-10-30/
CATEGORIES:Commercial & Multi-Family
END:VEVENT
BEGIN:VEVENT
DTSTART;VALUE=DATE:20241022
DTEND;VALUE=DATE:20241023
DTSTAMP:20260419T134505
CREATED:20240731T201441Z
LAST-MODIFIED:20240731T201441Z
UID:10000582-1729555200-1729641599@overlookedmaterials.com
SUMMARY:North Chatt\, Redbank\, Hixson Collection
DESCRIPTION:
URL:https://overlookedmaterials.com/event/north-chatt-redbank-hixson-collection/2024-10-22/
CATEGORIES:Commercial & Multi-Family,Residential
END:VEVENT
BEGIN:VEVENT
DTSTART;TZID=America/Halifax:20241016T080000
DTEND;TZID=America/Halifax:20241016T170000
DTSTAMP:20260419T134505
CREATED:20240808T165425Z
LAST-MODIFIED:20240808T165426Z
UID:10000702-1729065600-1729098000@overlookedmaterials.com
SUMMARY:Bi-Weekly Collection
DESCRIPTION:
URL:https://overlookedmaterials.com/event/bi-weekly-commercial-collection-2/2024-10-16/
CATEGORIES:Commercial & Multi-Family
END:VEVENT
BEGIN:VEVENT
DTSTART;VALUE=DATE:20241015
DTEND;VALUE=DATE:20241016
DTSTAMP:20260419T134505
CREATED:20240731T201330Z
LAST-MODIFIED:20240731T201526Z
UID:10000641-1728950400-1729036799@overlookedmaterials.com
SUMMARY:Downtown\, Lookout Mtn & Valley\, St. Elmo Collection
DESCRIPTION:
URL:https://overlookedmaterials.com/event/downtown-lookout-mtn-valley-st-elmo-collection/2024-10-15/
CATEGORIES:Commercial & Multi-Family,Residential
END:VEVENT
BEGIN:VEVENT
DTSTART;VALUE=DATE:20241008
DTEND;VALUE=DATE:20241009
DTSTAMP:20260419T134505
CREATED:20240731T201138Z
LAST-MODIFIED:20240731T201138Z
UID:10000520-1728345600-1728431999@overlookedmaterials.com
SUMMARY:East Ridge\, Brainerd\, Hwy 58 Collection
DESCRIPTION:
URL:https://overlookedmaterials.com/event/east-ridge-brainerd-hwy-58-collection/2024-10-08/
CATEGORIES:Commercial & Multi-Family,Residential
END:VEVENT
BEGIN:VEVENT
DTSTART;TZID=America/Halifax:20241002T080000
DTEND;TZID=America/Halifax:20241002T170000
DTSTAMP:20260419T134505
CREATED:20240808T165425Z
LAST-MODIFIED:20240808T165426Z
UID:10000701-1727856000-1727888400@overlookedmaterials.com
SUMMARY:Bi-Weekly Collection
DESCRIPTION:
URL:https://overlookedmaterials.com/event/bi-weekly-commercial-collection-2/2024-10-02/
CATEGORIES:Commercial & Multi-Family
END:VEVENT
BEGIN:VEVENT
DTSTART;VALUE=DATE:20241001
DTEND;VALUE=DATE:20241002
DTSTAMP:20260419T134505
CREATED:20240731T174232Z
LAST-MODIFIED:20240731T201707Z
UID:10000460-1727740800-1727827199@overlookedmaterials.com
SUMMARY:Signal Mountain Monthly Collection
DESCRIPTION:
URL:https://overlookedmaterials.com/event/residential-glass-pickup-2-2/2024-10-01/
CATEGORIES:Residential
END:VEVENT
BEGIN:VEVENT
DTSTART;VALUE=DATE:20240924
DTEND;VALUE=DATE:20240925
DTSTAMP:20260419T134505
CREATED:20240731T201441Z
LAST-MODIFIED:20240731T201441Z
UID:10000581-1727136000-1727222399@overlookedmaterials.com
SUMMARY:North Chatt\, Redbank\, Hixson Collection
DESCRIPTION:
URL:https://overlookedmaterials.com/event/north-chatt-redbank-hixson-collection/2024-09-24/
CATEGORIES:Commercial & Multi-Family,Residential
END:VEVENT
BEGIN:VEVENT
DTSTART;TZID=America/Halifax:20240918T080000
DTEND;TZID=America/Halifax:20240918T170000
DTSTAMP:20260419T134505
CREATED:20240808T165425Z
LAST-MODIFIED:20240808T165426Z
UID:10000700-1726646400-1726678800@overlookedmaterials.com
SUMMARY:Bi-Weekly Collection
DESCRIPTION:
URL:https://overlookedmaterials.com/event/bi-weekly-commercial-collection-2/2024-09-18/
CATEGORIES:Commercial & Multi-Family
END:VEVENT
BEGIN:VEVENT
DTSTART;VALUE=DATE:20240917
DTEND;VALUE=DATE:20240918
DTSTAMP:20260419T134505
CREATED:20240731T201330Z
LAST-MODIFIED:20240731T201526Z
UID:10000640-1726531200-1726617599@overlookedmaterials.com
SUMMARY:Downtown\, Lookout Mtn & Valley\, St. Elmo Collection
DESCRIPTION:
URL:https://overlookedmaterials.com/event/downtown-lookout-mtn-valley-st-elmo-collection/2024-09-17/
CATEGORIES:Commercial & Multi-Family,Residential
END:VEVENT
BEGIN:VEVENT
DTSTART;TZID=UTC:20240914T100000
DTEND;TZID=UTC:20240914T140000
DTSTAMP:20260419T134505
CREATED:20240903T194534Z
LAST-MODIFIED:20240905T174801Z
UID:10000828-1726308000-1726322400@overlookedmaterials.com
SUMMARY:Open House Day
DESCRIPTION:Come join us at our second open house date on 9/14 from 10:00-2:00!  Event is free and open to the public. \nWe will have: \n\nFree Double Cola & Ski Soda tastings while we share the history of this iconic\, locally based company\nThe unveiling of our new visitor platform\, “The Overlook”\n\nIf you are a residential recycler or sign up to recycle with us on/before 9/14\, you can bring your own glass in and take home your own sand and gravel for your projects.  Just a way for us to say thanks for partnering with us!\n\n\nRecycling demonstrations & materials available for sale\nCornhole and bottle ring toss\nCrafts for kids
URL:https://overlookedmaterials.com/event/open-house-day/
LOCATION:Overlooked Materials HQ\, 951 S. Watkins St\, Chattanooga\, TN\, 37404
CATEGORIES:Event
GEO:35.0282114093;-85.2712592809
X-APPLE-STRUCTURED-LOCATION;VALUE=URI;X-ADDRESS=Overlooked Materials HQ 951 S. Watkins St Chattanooga TN 37404;X-APPLE-RADIUS=500;X-TITLE=951 S. Watkins St:geo:-85.2712592809,35.0282114093
END:VEVENT
BEGIN:VEVENT
DTSTART;VALUE=DATE:20240910
DTEND;VALUE=DATE:20240911
DTSTAMP:20260419T134505
CREATED:20240731T201138Z
LAST-MODIFIED:20240731T201138Z
UID:10000519-1725926400-1726012799@overlookedmaterials.com
SUMMARY:East Ridge\, Brainerd\, Hwy 58 Collection
DESCRIPTION:
URL:https://overlookedmaterials.com/event/east-ridge-brainerd-hwy-58-collection/2024-09-10/
CATEGORIES:Commercial & Multi-Family,Residential
END:VEVENT
BEGIN:VEVENT
DTSTART;TZID=America/Halifax:20240904T080000
DTEND;TZID=America/Halifax:20240904T170000
DTSTAMP:20260419T134505
CREATED:20240808T165425Z
LAST-MODIFIED:20240808T165426Z
UID:10000699-1725436800-1725469200@overlookedmaterials.com
SUMMARY:Bi-Weekly Collection
DESCRIPTION:
URL:https://overlookedmaterials.com/event/bi-weekly-commercial-collection-2/2024-09-04/
CATEGORIES:Commercial & Multi-Family
END:VEVENT
BEGIN:VEVENT
DTSTART;VALUE=DATE:20240903
DTEND;VALUE=DATE:20240904
DTSTAMP:20260419T134505
CREATED:20240731T174232Z
LAST-MODIFIED:20240731T201707Z
UID:10000459-1725321600-1725407999@overlookedmaterials.com
SUMMARY:Signal Mountain Monthly Collection
DESCRIPTION:
URL:https://overlookedmaterials.com/event/residential-glass-pickup-2-2/2024-09-03/
CATEGORIES:Residential
END:VEVENT
BEGIN:VEVENT
DTSTART;VALUE=DATE:20240827
DTEND;VALUE=DATE:20240828
DTSTAMP:20260419T134505
CREATED:20240731T201441Z
LAST-MODIFIED:20240731T201441Z
UID:10000580-1724716800-1724803199@overlookedmaterials.com
SUMMARY:North Chatt\, Redbank\, Hixson Collection
DESCRIPTION:
URL:https://overlookedmaterials.com/event/north-chatt-redbank-hixson-collection/2024-08-27/
CATEGORIES:Commercial & Multi-Family,Residential
END:VEVENT
BEGIN:VEVENT
DTSTART;TZID=America/Halifax:20240821T080000
DTEND;TZID=America/Halifax:20240821T170000
DTSTAMP:20260419T134505
CREATED:20240808T165425Z
LAST-MODIFIED:20240808T165426Z
UID:10000269-1724227200-1724259600@overlookedmaterials.com
SUMMARY:Bi-Weekly Collection
DESCRIPTION:
URL:https://overlookedmaterials.com/event/bi-weekly-commercial-collection-2/2024-08-21/
CATEGORIES:Commercial & Multi-Family
END:VEVENT
BEGIN:VEVENT
DTSTART;VALUE=DATE:20240820
DTEND;VALUE=DATE:20240821
DTSTAMP:20260419T134505
CREATED:20240731T201330Z
LAST-MODIFIED:20240731T201526Z
UID:10000578-1724112000-1724198399@overlookedmaterials.com
SUMMARY:Downtown\, Lookout Mtn & Valley\, St. Elmo Collection
DESCRIPTION:
URL:https://overlookedmaterials.com/event/downtown-lookout-mtn-valley-st-elmo-collection/2024-08-20/
CATEGORIES:Commercial & Multi-Family,Residential
END:VEVENT
BEGIN:VEVENT
DTSTART;VALUE=DATE:20240813
DTEND;VALUE=DATE:20240814
DTSTAMP:20260419T134505
CREATED:20240731T201138Z
LAST-MODIFIED:20240731T201138Z
UID:10000518-1723507200-1723593599@overlookedmaterials.com
SUMMARY:East Ridge\, Brainerd\, Hwy 58 Collection
DESCRIPTION:
URL:https://overlookedmaterials.com/event/east-ridge-brainerd-hwy-58-collection/2024-08-13/
CATEGORIES:Commercial & Multi-Family,Residential
END:VEVENT
END:VCALENDAR