BEGIN:VCALENDAR
VERSION:2.0
PRODID:-//Overlooked Materials - ECPv6.6.4.2//NONSGML v1.0//EN
CALSCALE:GREGORIAN
METHOD:PUBLISH
X-WR-CALNAME:Overlooked Materials
X-ORIGINAL-URL:https://overlookedmaterials.com
X-WR-CALDESC:Events for Overlooked Materials
REFRESH-INTERVAL;VALUE=DURATION:PT1H
X-Robots-Tag:noindex
X-PUBLISHED-TTL:PT1H
BEGIN:VTIMEZONE
TZID:UTC
BEGIN:STANDARD
TZOFFSETFROM:+0000
TZOFFSETTO:+0000
TZNAME:UTC
DTSTART:20260101T000000
END:STANDARD
END:VTIMEZONE
BEGIN:VEVENT
DTSTART;VALUE=DATE:20260428
DTEND;VALUE=DATE:20260429
DTSTAMP:20260420T090551
CREATED:20240731T201441Z
LAST-MODIFIED:20240731T201441Z
UID:10000600-1777334400-1777420799@overlookedmaterials.com
SUMMARY:North Chatt\, Redbank\, Hixson Collection
DESCRIPTION:
URL:https://overlookedmaterials.com/event/north-chatt-redbank-hixson-collection/2026-04-28/
CATEGORIES:Commercial & Multi-Family,Residential
END:VEVENT
BEGIN:VEVENT
DTSTART;VALUE=DATE:20260526
DTEND;VALUE=DATE:20260527
DTSTAMP:20260420T090551
CREATED:20240731T201441Z
LAST-MODIFIED:20240731T201441Z
UID:10000601-1779753600-1779839999@overlookedmaterials.com
SUMMARY:North Chatt\, Redbank\, Hixson Collection
DESCRIPTION:
URL:https://overlookedmaterials.com/event/north-chatt-redbank-hixson-collection/2026-05-26/
CATEGORIES:Commercial & Multi-Family,Residential
END:VEVENT
BEGIN:VEVENT
DTSTART;VALUE=DATE:20260623
DTEND;VALUE=DATE:20260624
DTSTAMP:20260420T090551
CREATED:20240731T201441Z
LAST-MODIFIED:20240731T201441Z
UID:10000602-1782172800-1782259199@overlookedmaterials.com
SUMMARY:North Chatt\, Redbank\, Hixson Collection
DESCRIPTION:
URL:https://overlookedmaterials.com/event/north-chatt-redbank-hixson-collection/2026-06-23/
CATEGORIES:Commercial & Multi-Family,Residential
END:VEVENT
BEGIN:VEVENT
DTSTART;VALUE=DATE:20260728
DTEND;VALUE=DATE:20260729
DTSTAMP:20260420T090551
CREATED:20240731T201441Z
LAST-MODIFIED:20240731T201441Z
UID:10000603-1785196800-1785283199@overlookedmaterials.com
SUMMARY:North Chatt\, Redbank\, Hixson Collection
DESCRIPTION:
URL:https://overlookedmaterials.com/event/north-chatt-redbank-hixson-collection/2026-07-28/
CATEGORIES:Commercial & Multi-Family,Residential
END:VEVENT
BEGIN:VEVENT
DTSTART;VALUE=DATE:20260825
DTEND;VALUE=DATE:20260826
DTSTAMP:20260420T090551
CREATED:20240731T201441Z
LAST-MODIFIED:20240731T201441Z
UID:10000604-1787616000-1787702399@overlookedmaterials.com
SUMMARY:North Chatt\, Redbank\, Hixson Collection
DESCRIPTION:
URL:https://overlookedmaterials.com/event/north-chatt-redbank-hixson-collection/2026-08-25/
CATEGORIES:Commercial & Multi-Family,Residential
END:VEVENT
BEGIN:VEVENT
DTSTART;VALUE=DATE:20260922
DTEND;VALUE=DATE:20260923
DTSTAMP:20260420T090551
CREATED:20240731T201441Z
LAST-MODIFIED:20240731T201441Z
UID:10000605-1790035200-1790121599@overlookedmaterials.com
SUMMARY:North Chatt\, Redbank\, Hixson Collection
DESCRIPTION:
URL:https://overlookedmaterials.com/event/north-chatt-redbank-hixson-collection/2026-09-22/
CATEGORIES:Commercial & Multi-Family,Residential
END:VEVENT
BEGIN:VEVENT
DTSTART;VALUE=DATE:20261027
DTEND;VALUE=DATE:20261028
DTSTAMP:20260420T090551
CREATED:20240731T201441Z
LAST-MODIFIED:20240731T201441Z
UID:10000606-1793059200-1793145599@overlookedmaterials.com
SUMMARY:North Chatt\, Redbank\, Hixson Collection
DESCRIPTION:
URL:https://overlookedmaterials.com/event/north-chatt-redbank-hixson-collection/2026-10-27/
CATEGORIES:Commercial & Multi-Family,Residential
END:VEVENT
BEGIN:VEVENT
DTSTART;VALUE=DATE:20261124
DTEND;VALUE=DATE:20261125
DTSTAMP:20260420T090551
CREATED:20240731T201441Z
LAST-MODIFIED:20240731T201441Z
UID:10000607-1795478400-1795564799@overlookedmaterials.com
SUMMARY:North Chatt\, Redbank\, Hixson Collection
DESCRIPTION:
URL:https://overlookedmaterials.com/event/north-chatt-redbank-hixson-collection/2026-11-24/
CATEGORIES:Commercial & Multi-Family,Residential
END:VEVENT
BEGIN:VEVENT
DTSTART;VALUE=DATE:20261222
DTEND;VALUE=DATE:20261223
DTSTAMP:20260420T090551
CREATED:20240731T201441Z
LAST-MODIFIED:20240731T201441Z
UID:10000608-1797897600-1797983999@overlookedmaterials.com
SUMMARY:North Chatt\, Redbank\, Hixson Collection
DESCRIPTION:
URL:https://overlookedmaterials.com/event/north-chatt-redbank-hixson-collection/2026-12-22/
CATEGORIES:Commercial & Multi-Family,Residential
END:VEVENT
BEGIN:VEVENT
DTSTART;VALUE=DATE:20270126
DTEND;VALUE=DATE:20270127
DTSTAMP:20260420T090551
CREATED:20240731T201441Z
LAST-MODIFIED:20240731T201441Z
UID:10000609-1800921600-1801007999@overlookedmaterials.com
SUMMARY:North Chatt\, Redbank\, Hixson Collection
DESCRIPTION:
URL:https://overlookedmaterials.com/event/north-chatt-redbank-hixson-collection/2027-01-26/
CATEGORIES:Commercial & Multi-Family,Residential
END:VEVENT
BEGIN:VEVENT
DTSTART;VALUE=DATE:20270223
DTEND;VALUE=DATE:20270224
DTSTAMP:20260420T090551
CREATED:20240731T201441Z
LAST-MODIFIED:20240731T201441Z
UID:10000610-1803340800-1803427199@overlookedmaterials.com
SUMMARY:North Chatt\, Redbank\, Hixson Collection
DESCRIPTION:
URL:https://overlookedmaterials.com/event/north-chatt-redbank-hixson-collection/2027-02-23/
CATEGORIES:Commercial & Multi-Family,Residential
END:VEVENT
BEGIN:VEVENT
DTSTART;VALUE=DATE:20270323
DTEND;VALUE=DATE:20270324
DTSTAMP:20260420T090551
CREATED:20240731T201441Z
LAST-MODIFIED:20240731T201441Z
UID:10000611-1805760000-1805846399@overlookedmaterials.com
SUMMARY:North Chatt\, Redbank\, Hixson Collection
DESCRIPTION:
URL:https://overlookedmaterials.com/event/north-chatt-redbank-hixson-collection/2027-03-23/
CATEGORIES:Commercial & Multi-Family,Residential
END:VEVENT
BEGIN:VEVENT
DTSTART;VALUE=DATE:20270427
DTEND;VALUE=DATE:20270428
DTSTAMP:20260420T090551
CREATED:20240731T201441Z
LAST-MODIFIED:20240731T201441Z
UID:10000612-1808784000-1808870399@overlookedmaterials.com
SUMMARY:North Chatt\, Redbank\, Hixson Collection
DESCRIPTION:
URL:https://overlookedmaterials.com/event/north-chatt-redbank-hixson-collection/2027-04-27/
CATEGORIES:Commercial & Multi-Family,Residential
END:VEVENT
BEGIN:VEVENT
DTSTART;VALUE=DATE:20270525
DTEND;VALUE=DATE:20270526
DTSTAMP:20260420T090551
CREATED:20240731T201441Z
LAST-MODIFIED:20240731T201441Z
UID:10000613-1811203200-1811289599@overlookedmaterials.com
SUMMARY:North Chatt\, Redbank\, Hixson Collection
DESCRIPTION:
URL:https://overlookedmaterials.com/event/north-chatt-redbank-hixson-collection/2027-05-25/
CATEGORIES:Commercial & Multi-Family,Residential
END:VEVENT
BEGIN:VEVENT
DTSTART;VALUE=DATE:20270622
DTEND;VALUE=DATE:20270623
DTSTAMP:20260420T090551
CREATED:20240731T201441Z
LAST-MODIFIED:20240731T201441Z
UID:10000614-1813622400-1813708799@overlookedmaterials.com
SUMMARY:North Chatt\, Redbank\, Hixson Collection
DESCRIPTION:
URL:https://overlookedmaterials.com/event/north-chatt-redbank-hixson-collection/2027-06-22/
CATEGORIES:Commercial & Multi-Family,Residential
END:VEVENT
BEGIN:VEVENT
DTSTART;VALUE=DATE:20270727
DTEND;VALUE=DATE:20270728
DTSTAMP:20260420T090551
CREATED:20240731T201441Z
LAST-MODIFIED:20240731T201441Z
UID:10000615-1816646400-1816732799@overlookedmaterials.com
SUMMARY:North Chatt\, Redbank\, Hixson Collection
DESCRIPTION:
URL:https://overlookedmaterials.com/event/north-chatt-redbank-hixson-collection/2027-07-27/
CATEGORIES:Commercial & Multi-Family,Residential
END:VEVENT
BEGIN:VEVENT
DTSTART;VALUE=DATE:20270824
DTEND;VALUE=DATE:20270825
DTSTAMP:20260420T090551
CREATED:20240731T201441Z
LAST-MODIFIED:20240731T201441Z
UID:10000616-1819065600-1819151999@overlookedmaterials.com
SUMMARY:North Chatt\, Redbank\, Hixson Collection
DESCRIPTION:
URL:https://overlookedmaterials.com/event/north-chatt-redbank-hixson-collection/2027-08-24/
CATEGORIES:Commercial & Multi-Family,Residential
END:VEVENT
BEGIN:VEVENT
DTSTART;VALUE=DATE:20270928
DTEND;VALUE=DATE:20270929
DTSTAMP:20260420T090551
CREATED:20240731T201441Z
LAST-MODIFIED:20240731T201441Z
UID:10000617-1822089600-1822175999@overlookedmaterials.com
SUMMARY:North Chatt\, Redbank\, Hixson Collection
DESCRIPTION:
URL:https://overlookedmaterials.com/event/north-chatt-redbank-hixson-collection/2027-09-28/
CATEGORIES:Commercial & Multi-Family,Residential
END:VEVENT
BEGIN:VEVENT
DTSTART;VALUE=DATE:20271026
DTEND;VALUE=DATE:20271027
DTSTAMP:20260420T090551
CREATED:20240731T201441Z
LAST-MODIFIED:20240731T201441Z
UID:10000618-1824508800-1824595199@overlookedmaterials.com
SUMMARY:North Chatt\, Redbank\, Hixson Collection
DESCRIPTION:
URL:https://overlookedmaterials.com/event/north-chatt-redbank-hixson-collection/2027-10-26/
CATEGORIES:Commercial & Multi-Family,Residential
END:VEVENT
BEGIN:VEVENT
DTSTART;VALUE=DATE:20271123
DTEND;VALUE=DATE:20271124
DTSTAMP:20260420T090551
CREATED:20240731T201441Z
LAST-MODIFIED:20240731T201441Z
UID:10000619-1826928000-1827014399@overlookedmaterials.com
SUMMARY:North Chatt\, Redbank\, Hixson Collection
DESCRIPTION:
URL:https://overlookedmaterials.com/event/north-chatt-redbank-hixson-collection/2027-11-23/
CATEGORIES:Commercial & Multi-Family,Residential
END:VEVENT
BEGIN:VEVENT
DTSTART;VALUE=DATE:20271228
DTEND;VALUE=DATE:20271229
DTSTAMP:20260420T090551
CREATED:20240731T201441Z
LAST-MODIFIED:20240731T201441Z
UID:10000620-1829952000-1830038399@overlookedmaterials.com
SUMMARY:North Chatt\, Redbank\, Hixson Collection
DESCRIPTION:
URL:https://overlookedmaterials.com/event/north-chatt-redbank-hixson-collection/2027-12-28/
CATEGORIES:Commercial & Multi-Family,Residential
END:VEVENT
BEGIN:VEVENT
DTSTART;VALUE=DATE:20280125
DTEND;VALUE=DATE:20280126
DTSTAMP:20260420T090551
CREATED:20240731T201441Z
LAST-MODIFIED:20240731T201441Z
UID:10000621-1832371200-1832457599@overlookedmaterials.com
SUMMARY:North Chatt\, Redbank\, Hixson Collection
DESCRIPTION:
URL:https://overlookedmaterials.com/event/north-chatt-redbank-hixson-collection/2028-01-25/
CATEGORIES:Commercial & Multi-Family,Residential
END:VEVENT
BEGIN:VEVENT
DTSTART;VALUE=DATE:20280222
DTEND;VALUE=DATE:20280223
DTSTAMP:20260420T090551
CREATED:20240731T201441Z
LAST-MODIFIED:20240731T201441Z
UID:10000622-1834790400-1834876799@overlookedmaterials.com
SUMMARY:North Chatt\, Redbank\, Hixson Collection
DESCRIPTION:
URL:https://overlookedmaterials.com/event/north-chatt-redbank-hixson-collection/2028-02-22/
CATEGORIES:Commercial & Multi-Family,Residential
END:VEVENT
BEGIN:VEVENT
DTSTART;VALUE=DATE:20280328
DTEND;VALUE=DATE:20280329
DTSTAMP:20260420T090551
CREATED:20240731T201441Z
LAST-MODIFIED:20240731T201441Z
UID:10000623-1837814400-1837900799@overlookedmaterials.com
SUMMARY:North Chatt\, Redbank\, Hixson Collection
DESCRIPTION:
URL:https://overlookedmaterials.com/event/north-chatt-redbank-hixson-collection/2028-03-28/
CATEGORIES:Commercial & Multi-Family,Residential
END:VEVENT
BEGIN:VEVENT
DTSTART;VALUE=DATE:20280425
DTEND;VALUE=DATE:20280426
DTSTAMP:20260420T090551
CREATED:20240731T201441Z
LAST-MODIFIED:20240731T201441Z
UID:10000624-1840233600-1840319999@overlookedmaterials.com
SUMMARY:North Chatt\, Redbank\, Hixson Collection
DESCRIPTION:
URL:https://overlookedmaterials.com/event/north-chatt-redbank-hixson-collection/2028-04-25/
CATEGORIES:Commercial & Multi-Family,Residential
END:VEVENT
BEGIN:VEVENT
DTSTART;VALUE=DATE:20280523
DTEND;VALUE=DATE:20280524
DTSTAMP:20260420T090551
CREATED:20240731T201441Z
LAST-MODIFIED:20240731T201441Z
UID:10000625-1842652800-1842739199@overlookedmaterials.com
SUMMARY:North Chatt\, Redbank\, Hixson Collection
DESCRIPTION:
URL:https://overlookedmaterials.com/event/north-chatt-redbank-hixson-collection/2028-05-23/
CATEGORIES:Commercial & Multi-Family,Residential
END:VEVENT
BEGIN:VEVENT
DTSTART;VALUE=DATE:20280627
DTEND;VALUE=DATE:20280628
DTSTAMP:20260420T090551
CREATED:20240731T201441Z
LAST-MODIFIED:20240731T201441Z
UID:10000626-1845676800-1845763199@overlookedmaterials.com
SUMMARY:North Chatt\, Redbank\, Hixson Collection
DESCRIPTION:
URL:https://overlookedmaterials.com/event/north-chatt-redbank-hixson-collection/2028-06-27/
CATEGORIES:Commercial & Multi-Family,Residential
END:VEVENT
BEGIN:VEVENT
DTSTART;VALUE=DATE:20280725
DTEND;VALUE=DATE:20280726
DTSTAMP:20260420T090551
CREATED:20240731T201441Z
LAST-MODIFIED:20240731T201441Z
UID:10000627-1848096000-1848182399@overlookedmaterials.com
SUMMARY:North Chatt\, Redbank\, Hixson Collection
DESCRIPTION:
URL:https://overlookedmaterials.com/event/north-chatt-redbank-hixson-collection/2028-07-25/
CATEGORIES:Commercial & Multi-Family,Residential
END:VEVENT
BEGIN:VEVENT
DTSTART;VALUE=DATE:20280822
DTEND;VALUE=DATE:20280823
DTSTAMP:20260420T090551
CREATED:20240731T201441Z
LAST-MODIFIED:20240731T201441Z
UID:10000628-1850515200-1850601599@overlookedmaterials.com
SUMMARY:North Chatt\, Redbank\, Hixson Collection
DESCRIPTION:
URL:https://overlookedmaterials.com/event/north-chatt-redbank-hixson-collection/2028-08-22/
CATEGORIES:Commercial & Multi-Family,Residential
END:VEVENT
BEGIN:VEVENT
DTSTART;VALUE=DATE:20280926
DTEND;VALUE=DATE:20280927
DTSTAMP:20260420T090551
CREATED:20240731T201441Z
LAST-MODIFIED:20240731T201441Z
UID:10000629-1853539200-1853625599@overlookedmaterials.com
SUMMARY:North Chatt\, Redbank\, Hixson Collection
DESCRIPTION:
URL:https://overlookedmaterials.com/event/north-chatt-redbank-hixson-collection/2028-09-26/
CATEGORIES:Commercial & Multi-Family,Residential
END:VEVENT
END:VCALENDAR